BEGIN:VCALENDAR
VERSION:2.0
PRODID:-//Saint-François-Xavier-de-Brompton - ECPv6.15.18//NONSGML v1.0//EN
CALSCALE:GREGORIAN
METHOD:PUBLISH
X-WR-CALNAME:Saint-François-Xavier-de-Brompton
X-ORIGINAL-URL:https://sfxb.qc.ca
X-WR-CALDESC:Événements pour Saint-François-Xavier-de-Brompton
REFRESH-INTERVAL;VALUE=DURATION:PT1H
X-Robots-Tag:noindex
X-PUBLISHED-TTL:PT1H
BEGIN:VTIMEZONE
TZID:America/New_York
BEGIN:DAYLIGHT
TZOFFSETFROM:-0500
TZOFFSETTO:-0400
TZNAME:EDT
DTSTART:20230312T070000
END:DAYLIGHT
BEGIN:STANDARD
TZOFFSETFROM:-0400
TZOFFSETTO:-0500
TZNAME:EST
DTSTART:20231105T060000
END:STANDARD
BEGIN:DAYLIGHT
TZOFFSETFROM:-0500
TZOFFSETTO:-0400
TZNAME:EDT
DTSTART:20240310T070000
END:DAYLIGHT
BEGIN:STANDARD
TZOFFSETFROM:-0400
TZOFFSETTO:-0500
TZNAME:EST
DTSTART:20241103T060000
END:STANDARD
BEGIN:DAYLIGHT
TZOFFSETFROM:-0500
TZOFFSETTO:-0400
TZNAME:EDT
DTSTART:20250309T070000
END:DAYLIGHT
BEGIN:STANDARD
TZOFFSETFROM:-0400
TZOFFSETTO:-0500
TZNAME:EST
DTSTART:20251102T060000
END:STANDARD
END:VTIMEZONE
BEGIN:VEVENT
DTSTART;TZID=America/New_York:20241213T123000
DTEND;TZID=America/New_York:20241213T160000
DTSTAMP:20260423T070417
CREATED:20240110T194321Z
LAST-MODIFIED:20240627T150617Z
UID:109384-1734093000-1734105600@sfxb.qc.ca
SUMMARY:CLUB DE CARTE « 500 »
DESCRIPTION:Le Club de cartes « 500 »  se réunit tous les mardis  et vendredis. \n  \nPour information contactez Mme Micheline Guillemette au michelineguillemette@gmail.com .
URL:https://sfxb.qc.ca/event/club-de-carte-500-2-2024-12-13/
LOCATION:Québec
END:VEVENT
BEGIN:VEVENT
DTSTART;TZID=America/New_York:20241211T120000
DTEND;TZID=America/New_York:20241211T163000
DTSTAMP:20260423T070417
CREATED:20240926T141130Z
LAST-MODIFIED:20240926T141332Z
UID:110162-1733918400-1733934600@sfxb.qc.ca
SUMMARY:FADOQ
DESCRIPTION:La FADOQ propose une variété d’activités pour les personnes âgées\, notamment des jeux de cartes\, des jeux de poches\, du shuffleboard\, et bien d’autres.
URL:https://sfxb.qc.ca/event/fadoq-11/
LOCATION:Centre communautaire France-Gagnon-Laprade\, 112 rue du Parc\, Saint-François-Xavier-de-Brompton\, Québec\, J0B 2V0\, Canada
END:VEVENT
BEGIN:VEVENT
DTSTART;TZID=America/New_York:20241210T123000
DTEND;TZID=America/New_York:20241210T160000
DTSTAMP:20260423T070417
CREATED:20240110T194321Z
LAST-MODIFIED:20240110T194321Z
UID:109383-1733833800-1733846400@sfxb.qc.ca
SUMMARY:CLUB DE CARTE « 500 »
DESCRIPTION:Le Club de carte « 500 » \, se réunis tout les mardi  et vendredi. \n  \nPour information contacté Mme Micheline Guillemette au michelineguillemette@gmail.com .
URL:https://sfxb.qc.ca/event/club-de-carte-500-2-2024-12-10/
LOCATION:Québec
END:VEVENT
BEGIN:VEVENT
DTSTART;TZID=America/New_York:20241206T123000
DTEND;TZID=America/New_York:20241206T160000
DTSTAMP:20260423T070417
CREATED:20240110T194321Z
LAST-MODIFIED:20240110T194321Z
UID:109382-1733488200-1733500800@sfxb.qc.ca
SUMMARY:CLUB DE CARTE « 500 »
DESCRIPTION:Le Club de carte « 500 » \, se réunis tout les mardi  et vendredi. \n  \nPour information contacté Mme Micheline Guillemette au michelineguillemette@gmail.com .
URL:https://sfxb.qc.ca/event/club-de-carte-500-2-2024-12-06/
LOCATION:Québec
END:VEVENT
BEGIN:VEVENT
DTSTART;TZID=America/New_York:20241204T123000
DTEND;TZID=America/New_York:20241204T163000
DTSTAMP:20260423T070417
CREATED:20240926T141645Z
LAST-MODIFIED:20240926T141645Z
UID:110168-1733315400-1733329800@sfxb.qc.ca
SUMMARY:FADOQ
DESCRIPTION:La FADOQ propose une variété d’activités pour les personnes âgées\, notamment des jeux de cartes\, des jeux de poches\, du shuffleboard\, et bien d’autres.
URL:https://sfxb.qc.ca/event/fadoq-14/
LOCATION:Centre communautaire France-Gagnon-Laprade\, 112 rue du Parc\, Saint-François-Xavier-de-Brompton\, Québec\, J0B 2V0\, Canada
END:VEVENT
BEGIN:VEVENT
DTSTART;TZID=America/New_York:20241203T123000
DTEND;TZID=America/New_York:20241203T160000
DTSTAMP:20260423T070417
CREATED:20240110T194321Z
LAST-MODIFIED:20240110T194321Z
UID:109381-1733229000-1733241600@sfxb.qc.ca
SUMMARY:CLUB DE CARTE « 500 »
DESCRIPTION:Le Club de carte « 500 » \, se réunis tout les mardi  et vendredi. \n  \nPour information contacté Mme Micheline Guillemette au michelineguillemette@gmail.com .
URL:https://sfxb.qc.ca/event/club-de-carte-500-2-2024-12-03/
LOCATION:Québec
END:VEVENT
BEGIN:VEVENT
DTSTART;TZID=America/New_York:20241202T190000
DTEND;TZID=America/New_York:20241202T190000
DTSTAMP:20260423T070417
CREATED:20231221T155330Z
LAST-MODIFIED:20231221T155330Z
UID:109464-1733166000-1733166000@sfxb.qc.ca
SUMMARY:SÉANCE DU CONSEIL MUNICIPAL
DESCRIPTION:
URL:https://sfxb.qc.ca/event/seance-du-conseil-municipal-2-2024-12-02/
LOCATION:Centre communautaire France-Gagnon-Laprade\, 112 rue du Parc\, Saint-François-Xavier-de-Brompton\, Québec\, J0B 2V0\, Canada
END:VEVENT
BEGIN:VEVENT
DTSTART;TZID=America/New_York:20241129T123000
DTEND;TZID=America/New_York:20241129T160000
DTSTAMP:20260423T070417
CREATED:20240110T194321Z
LAST-MODIFIED:20240110T194321Z
UID:109380-1732883400-1732896000@sfxb.qc.ca
SUMMARY:CLUB DE CARTE « 500 »
DESCRIPTION:Le Club de carte « 500 » \, se réunis tout les mardi  et vendredi. \n  \nPour information contacté Mme Micheline Guillemette au michelineguillemette@gmail.com .
URL:https://sfxb.qc.ca/event/club-de-carte-500-2-2024-11-29/
LOCATION:Québec
END:VEVENT
BEGIN:VEVENT
DTSTART;TZID=America/New_York:20241127T080000
DTEND;TZID=America/New_York:20241127T170000
DTSTAMP:20260423T070417
CREATED:20240926T141800Z
LAST-MODIFIED:20240926T141800Z
UID:110172-1732694400-1732726800@sfxb.qc.ca
SUMMARY:FADOQ
DESCRIPTION:La FADOQ propose une variété d’activités pour les personnes âgées\, notamment des jeux de cartes\, des jeux de poches\, du shuffleboard\, et bien d’autres.
URL:https://sfxb.qc.ca/event/fadoq-16/
LOCATION:Centre communautaire France-Gagnon-Laprade\, 112 rue du Parc\, Saint-François-Xavier-de-Brompton\, Québec\, J0B 2V0\, Canada
END:VEVENT
BEGIN:VEVENT
DTSTART;TZID=America/New_York:20241126T123000
DTEND;TZID=America/New_York:20241126T160000
DTSTAMP:20260423T070417
CREATED:20240110T194321Z
LAST-MODIFIED:20240110T194321Z
UID:109379-1732624200-1732636800@sfxb.qc.ca
SUMMARY:CLUB DE CARTE « 500 »
DESCRIPTION:Le Club de carte « 500 » \, se réunis tout les mardi  et vendredi. \n  \nPour information contacté Mme Micheline Guillemette au michelineguillemette@gmail.com .
URL:https://sfxb.qc.ca/event/club-de-carte-500-2-2024-11-26/
LOCATION:Québec
END:VEVENT
BEGIN:VEVENT
DTSTART;TZID=America/New_York:20241122T123000
DTEND;TZID=America/New_York:20241122T160000
DTSTAMP:20260423T070417
CREATED:20240110T194321Z
LAST-MODIFIED:20240110T194321Z
UID:109378-1732278600-1732291200@sfxb.qc.ca
SUMMARY:CLUB DE CARTE « 500 »
DESCRIPTION:Le Club de carte « 500 » \, se réunis tout les mardi  et vendredi. \n  \nPour information contacté Mme Micheline Guillemette au michelineguillemette@gmail.com .
URL:https://sfxb.qc.ca/event/club-de-carte-500-2-2024-11-22/
LOCATION:Québec
END:VEVENT
BEGIN:VEVENT
DTSTART;TZID=America/New_York:20241120T123000
DTEND;TZID=America/New_York:20241120T163000
DTSTAMP:20260423T070417
CREATED:20240926T141728Z
LAST-MODIFIED:20240926T141728Z
UID:110170-1732105800-1732120200@sfxb.qc.ca
SUMMARY:FADOQ
DESCRIPTION:La FADOQ propose une variété d’activités pour les personnes âgées\, notamment des jeux de cartes\, des jeux de poches\, du shuffleboard\, et bien d’autres.
URL:https://sfxb.qc.ca/event/fadoq-15/
LOCATION:Centre communautaire France-Gagnon-Laprade\, 112 rue du Parc\, Saint-François-Xavier-de-Brompton\, Québec\, J0B 2V0\, Canada
END:VEVENT
BEGIN:VEVENT
DTSTART;TZID=America/New_York:20241119T123000
DTEND;TZID=America/New_York:20241119T160000
DTSTAMP:20260423T070417
CREATED:20240110T194321Z
LAST-MODIFIED:20240110T194321Z
UID:109377-1732019400-1732032000@sfxb.qc.ca
SUMMARY:CLUB DE CARTE « 500 »
DESCRIPTION:Le Club de carte « 500 » \, se réunis tout les mardi  et vendredi. \n  \nPour information contacté Mme Micheline Guillemette au michelineguillemette@gmail.com .
URL:https://sfxb.qc.ca/event/club-de-carte-500-2-2024-11-19/
LOCATION:Québec
END:VEVENT
BEGIN:VEVENT
DTSTART;TZID=America/New_York:20241115T123000
DTEND;TZID=America/New_York:20241115T160000
DTSTAMP:20260423T070417
CREATED:20240110T194321Z
LAST-MODIFIED:20240110T194321Z
UID:109376-1731673800-1731686400@sfxb.qc.ca
SUMMARY:CLUB DE CARTE « 500 »
DESCRIPTION:Le Club de carte « 500 » \, se réunis tout les mardi  et vendredi. \n  \nPour information contacté Mme Micheline Guillemette au michelineguillemette@gmail.com .
URL:https://sfxb.qc.ca/event/club-de-carte-500-2-2024-11-15/
LOCATION:Québec
END:VEVENT
BEGIN:VEVENT
DTSTART;TZID=America/New_York:20241113T123000
DTEND;TZID=America/New_York:20241113T163000
DTSTAMP:20260423T070417
CREATED:20240926T141526Z
LAST-MODIFIED:20240926T141526Z
UID:110166-1731501000-1731515400@sfxb.qc.ca
SUMMARY:FADOQ
DESCRIPTION:La FADOQ propose une variété d’activités pour les personnes âgées\, notamment des jeux de cartes\, des jeux de poches\, du shuffleboard\, et bien d’autres.
URL:https://sfxb.qc.ca/event/fadoq-13/
LOCATION:Centre communautaire France-Gagnon-Laprade\, 112 rue du Parc\, Saint-François-Xavier-de-Brompton\, Québec\, J0B 2V0\, Canada
END:VEVENT
BEGIN:VEVENT
DTSTART;TZID=America/New_York:20241112T123000
DTEND;TZID=America/New_York:20241112T160000
DTSTAMP:20260423T070417
CREATED:20240110T194321Z
LAST-MODIFIED:20240110T194321Z
UID:109375-1731414600-1731427200@sfxb.qc.ca
SUMMARY:CLUB DE CARTE « 500 »
DESCRIPTION:Le Club de carte « 500 » \, se réunis tout les mardi  et vendredi. \n  \nPour information contacté Mme Micheline Guillemette au michelineguillemette@gmail.com .
URL:https://sfxb.qc.ca/event/club-de-carte-500-2-2024-11-12/
LOCATION:Québec
END:VEVENT
BEGIN:VEVENT
DTSTART;TZID=America/New_York:20241109T170000
DTEND;TZID=America/New_York:20241109T170000
DTSTAMP:20260423T070417
CREATED:20240705T134434Z
LAST-MODIFIED:20240705T134434Z
UID:109999-1731171600-1731171600@sfxb.qc.ca
SUMMARY:Le Novemberfest du maire
DESCRIPTION:Les détails sont as venir !
URL:https://sfxb.qc.ca/event/le-novemberfest-du-maire-2/
LOCATION:Centre communautaire France-Gagnon-Laprade\, 112 rue du Parc\, Saint-François-Xavier-de-Brompton\, Québec\, J0B 2V0\, Canada
ORGANIZER;CN="Pier-%C3%89tienne Deslandes":MAILTO:loisirs@sfxb.qc.ca
END:VEVENT
BEGIN:VEVENT
DTSTART;TZID=America/New_York:20241108T123000
DTEND;TZID=America/New_York:20241108T160000
DTSTAMP:20260423T070417
CREATED:20240110T194321Z
LAST-MODIFIED:20240110T194321Z
UID:109374-1731069000-1731081600@sfxb.qc.ca
SUMMARY:CLUB DE CARTE « 500 »
DESCRIPTION:Le Club de carte « 500 » \, se réunis tout les mardi  et vendredi. \n  \nPour information contacté Mme Micheline Guillemette au michelineguillemette@gmail.com .
URL:https://sfxb.qc.ca/event/club-de-carte-500-2-2024-11-08/
LOCATION:Québec
END:VEVENT
BEGIN:VEVENT
DTSTART;TZID=America/New_York:20241106T080000
DTEND;TZID=America/New_York:20241106T170000
DTSTAMP:20260423T070417
CREATED:20240926T141041Z
LAST-MODIFIED:20240926T141041Z
UID:110160-1730880000-1730912400@sfxb.qc.ca
SUMMARY:FADOQ
DESCRIPTION:La FADOQ propose une variété d’activités pour les personnes âgées\, notamment des jeux de cartes\, des jeux de poches\, du shuffleboard\, et bien d’autres.
URL:https://sfxb.qc.ca/event/fadoq-10/
LOCATION:Centre communautaire France-Gagnon-Laprade\, 112 rue du Parc\, Saint-François-Xavier-de-Brompton\, Québec\, J0B 2V0\, Canada
END:VEVENT
BEGIN:VEVENT
DTSTART;TZID=America/New_York:20241105T123000
DTEND;TZID=America/New_York:20241105T160000
DTSTAMP:20260423T070417
CREATED:20240110T194321Z
LAST-MODIFIED:20240110T194321Z
UID:109373-1730809800-1730822400@sfxb.qc.ca
SUMMARY:CLUB DE CARTE « 500 »
DESCRIPTION:Le Club de carte « 500 » \, se réunis tout les mardi  et vendredi. \n  \nPour information contacté Mme Micheline Guillemette au michelineguillemette@gmail.com .
URL:https://sfxb.qc.ca/event/club-de-carte-500-2-2024-11-05/
LOCATION:Québec
END:VEVENT
BEGIN:VEVENT
DTSTART;TZID=America/New_York:20241104T190000
DTEND;TZID=America/New_York:20241104T190000
DTSTAMP:20260423T070417
CREATED:20231221T155330Z
LAST-MODIFIED:20231221T155330Z
UID:109463-1730746800-1730746800@sfxb.qc.ca
SUMMARY:SÉANCE DU CONSEIL MUNICIPAL
DESCRIPTION:
URL:https://sfxb.qc.ca/event/seance-du-conseil-municipal-2-2024-11-04/
LOCATION:Centre communautaire France-Gagnon-Laprade\, 112 rue du Parc\, Saint-François-Xavier-de-Brompton\, Québec\, J0B 2V0\, Canada
END:VEVENT
BEGIN:VEVENT
DTSTART;TZID=America/New_York:20241101T123000
DTEND;TZID=America/New_York:20241101T160000
DTSTAMP:20260423T070417
CREATED:20240110T194321Z
LAST-MODIFIED:20240110T194321Z
UID:109372-1730464200-1730476800@sfxb.qc.ca
SUMMARY:CLUB DE CARTE « 500 »
DESCRIPTION:Le Club de carte « 500 » \, se réunis tout les mardi  et vendredi. \n  \nPour information contacté Mme Micheline Guillemette au michelineguillemette@gmail.com .
URL:https://sfxb.qc.ca/event/club-de-carte-500-2-2024-11-01/
LOCATION:Québec
END:VEVENT
BEGIN:VEVENT
DTSTART;TZID=America/New_York:20241030T123000
DTEND;TZID=America/New_York:20241030T163000
DTSTAMP:20260423T070417
CREATED:20240926T141007Z
LAST-MODIFIED:20240926T141007Z
UID:110158-1730291400-1730305800@sfxb.qc.ca
SUMMARY:FADOQ
DESCRIPTION:La FADOQ propose une variété d’activités pour les personnes âgées\, notamment des jeux de cartes\, des jeux de poches\, du shuffleboard\, et bien d’autres.
URL:https://sfxb.qc.ca/event/fadoq-9/
LOCATION:Centre communautaire France-Gagnon-Laprade\, 112 rue du Parc\, Saint-François-Xavier-de-Brompton\, Québec\, J0B 2V0\, Canada
END:VEVENT
BEGIN:VEVENT
DTSTART;TZID=America/New_York:20241029T123000
DTEND;TZID=America/New_York:20241029T160000
DTSTAMP:20260423T070417
CREATED:20240110T194321Z
LAST-MODIFIED:20240110T194321Z
UID:109371-1730205000-1730217600@sfxb.qc.ca
SUMMARY:CLUB DE CARTE « 500 »
DESCRIPTION:Le Club de carte « 500 » \, se réunis tout les mardi  et vendredi. \n  \nPour information contacté Mme Micheline Guillemette au michelineguillemette@gmail.com .
URL:https://sfxb.qc.ca/event/club-de-carte-500-2-2024-10-29/
LOCATION:Québec
END:VEVENT
BEGIN:VEVENT
DTSTART;TZID=America/New_York:20241025T123000
DTEND;TZID=America/New_York:20241025T160000
DTSTAMP:20260423T070417
CREATED:20240110T194321Z
LAST-MODIFIED:20240110T194321Z
UID:109370-1729859400-1729872000@sfxb.qc.ca
SUMMARY:CLUB DE CARTE « 500 »
DESCRIPTION:Le Club de carte « 500 » \, se réunis tout les mardi  et vendredi. \n  \nPour information contacté Mme Micheline Guillemette au michelineguillemette@gmail.com .
URL:https://sfxb.qc.ca/event/club-de-carte-500-2-2024-10-25/
LOCATION:Québec
END:VEVENT
BEGIN:VEVENT
DTSTART;TZID=America/New_York:20241023T123000
DTEND;TZID=America/New_York:20241023T163000
DTSTAMP:20260423T070417
CREATED:20240926T140815Z
LAST-MODIFIED:20240926T140815Z
UID:110154-1729686600-1729701000@sfxb.qc.ca
SUMMARY:FADOQ
DESCRIPTION:La FADOQ propose une variété d’activités pour les personnes âgées\, notamment des jeux de cartes\, des jeux de poches\, du shuffleboard\, et bien d’autres.
URL:https://sfxb.qc.ca/event/fadoq-7/
LOCATION:Centre communautaire France-Gagnon-Laprade\, 112 rue du Parc\, Saint-François-Xavier-de-Brompton\, Québec\, J0B 2V0\, Canada
END:VEVENT
BEGIN:VEVENT
DTSTART;TZID=America/New_York:20241022T123000
DTEND;TZID=America/New_York:20241022T160000
DTSTAMP:20260423T070417
CREATED:20240110T194321Z
LAST-MODIFIED:20240110T194321Z
UID:109369-1729600200-1729612800@sfxb.qc.ca
SUMMARY:CLUB DE CARTE « 500 »
DESCRIPTION:Le Club de carte « 500 » \, se réunis tout les mardi  et vendredi. \n  \nPour information contacté Mme Micheline Guillemette au michelineguillemette@gmail.com .
URL:https://sfxb.qc.ca/event/club-de-carte-500-2-2024-10-22/
LOCATION:Québec
END:VEVENT
BEGIN:VEVENT
DTSTART;TZID=America/New_York:20241018T123000
DTEND;TZID=America/New_York:20241018T160000
DTSTAMP:20260423T070417
CREATED:20240110T194321Z
LAST-MODIFIED:20240110T194321Z
UID:109368-1729254600-1729267200@sfxb.qc.ca
SUMMARY:CLUB DE CARTE « 500 »
DESCRIPTION:Le Club de carte « 500 » \, se réunis tout les mardi  et vendredi. \n  \nPour information contacté Mme Micheline Guillemette au michelineguillemette@gmail.com .
URL:https://sfxb.qc.ca/event/club-de-carte-500-2-2024-10-18/
LOCATION:Québec
END:VEVENT
BEGIN:VEVENT
DTSTART;TZID=America/New_York:20241016T123000
DTEND;TZID=America/New_York:20241016T163000
DTSTAMP:20260423T070417
CREATED:20240926T140609Z
LAST-MODIFIED:20240926T140619Z
UID:110151-1729081800-1729096200@sfxb.qc.ca
SUMMARY:FADOQ
DESCRIPTION:La FADOQ propose une variété d’activités pour les personnes âgées\, notamment des jeux de cartes\, des jeux de poches\, du shuffleboard\, et bien d’autres.
URL:https://sfxb.qc.ca/event/fadoq-6/
LOCATION:Centre communautaire France-Gagnon-Laprade\, 112 rue du Parc\, Saint-François-Xavier-de-Brompton\, Québec\, J0B 2V0\, Canada
END:VEVENT
BEGIN:VEVENT
DTSTART;TZID=America/New_York:20241015T183000
DTEND;TZID=America/New_York:20241015T183000
DTSTAMP:20260423T070417
CREATED:20240702T133929Z
LAST-MODIFIED:20240702T133929Z
UID:109966-1729017000-1729017000@sfxb.qc.ca
SUMMARY:Conférence : aménagement paysager comestible
DESCRIPTION:Le Comité du Plan de développement d’une communauté nourricière (PDCN) de Saint-François-Xavier-de-Brompton a le plaisir de vous offrir une série de conférences destinées à enrichir les connaissances de la population et à promouvoir son autonomie alimentaire. \nQu’est-ce que la permaculture ? Comment imiter la nature au jardin ? \nJoignez-vous à nous pour notre dernière conférence\, où le conférencier M. Joachim Yensen-Martin partagera son expertise et de nombreux conseils pratiques sur la permaculture. Cette conférence\, qui fait suite à celle du 9 juillet dernier\, s’adresse aux participants ayant déjà des connaissances de base en permaculture. \nInscrivez-vous dès maintenant : c’est gratuit pour les citoyens de notre municipalité ! Pour les non-résidents\, le coût est de 5 $. \nPour inscription : 819 845-3954\, poste 229 ou au loisirs@sfxb.qc.ca \nOn vous attend le 15 octobre prochain !
URL:https://sfxb.qc.ca/event/conference-amenagement-paysager-comestible/
LOCATION:Centre communautaire France-Gagnon-Laprade\, 112 rue du Parc\, Saint-François-Xavier-de-Brompton\, Québec\, J0B 2V0\, Canada
END:VEVENT
END:VCALENDAR